BEGIN:VCALENDAR
VERSION:2.0
PRODID:-//hacksw/handcal//NONSGML v1.0//EN
CALSCALE:GREGORIAN
BEGIN:VEVENT
UID:44
DTSTAMP:20260423T135531Z
DESCRIPTION:Cloverdale-Spanish Banks-Stanley Park-Lunch at Temper Chocolates
DTSTART:20260425T144500Z
DTEND:20260425T220000Z
LOCATION:5688 168 Street\, Surrey\, BC\, Canada
SUMMARY:Short Notice GVRD Day Cruise
URL;VALUE=URI:https://canadiancorvetteforums.com/events/short-notice-gvrd-day-cruise.44/
END:VEVENT
END:VCALENDAR