BEGIN:VCALENDAR
VERSION:2.0
PRODID:-//hacksw/handcal//NONSGML v1.0//EN
CALSCALE:GREGORIAN
BEGIN:VEVENT
UID:43
DTSTAMP:20260422T152947Z
DESCRIPTION:Corvettes of Western Ontario's 9th Annual Crown Vettes Car Show
DTSTART:20260524T140000Z
DTEND:20260524T180000Z
LOCATION:7097 Kilbourne Road\, London\, ON\, Canada
SUMMARY:Crown Vettes Car Show
URL;VALUE=URI:https://canadiancorvetteforums.com/events/crown-vettes-car-show.43/
END:VEVENT
END:VCALENDAR